BEGIN:VCALENDAR
VERSION:2.0
PRODID:-//eventon.com NONSGML v1.0//EN
CALSCALE:GREGORIAN
METHOD:PUBLISH
BEGIN:VEVENT
UID:69e8e431ed98c
DTSTAMP:20260422T150729Z
DTSTART:20200208T115000Z
DTEND:20200208T132000Z
LOCATION:Seminarraum Loretto Freiburg
SUMMARY:Atemwege - Der Atemkurs am Winterende
DESCRIPTION:Atemwege &#8211; Der Atemkurs am Winterende Übungen und Selbst
 behandlungen für freieres Atmen\,  gegen Depression und schlechte Laune Wa
 s hat Atmung mit der Laune zu tun? Was mit Angst oder Panik? Was mit psychi
 schen Problemen oder Stress? Was mit Schlaf oder mit Sexualität? Was mit d
 er Verdauung oder mit Sodbrennen? Was ist überhaupt[..]\nhttps://pohlthe
 rapie-freiburg.de/en/events/der-atemkurs/
URL:https://pohltherapie-freiburg.de/en/events/der-atemkurs/
END:VEVENT
END:VCALENDAR