BEGIN:VCALENDAR
VERSION:2.0
PRODID:-//eventon.com NONSGML v1.0//EN
CALSCALE:GREGORIAN
METHOD:PUBLISH
BEGIN:VEVENT
UID:69e616ddb6b76
DTSTAMP:20260420T120653Z
DTSTART:20201122T100000Z
DTEND:20201122T113000Z
LOCATION:Ãœbungsraum im Steptraum
SUMMARY:Die Ohren und ihre Beschwerden
DESCRIPTION:Die Ohren und ihre Beschwerden Ãœbungen und Selbstbehandlungen 
 der Pohltherapie gegen verspannungsbedingte SchwerhÃ¶rigkeit\,  HÃ¶rstÃ¼rze
 \,  Tinnitus usw. Wenn Sie unterÂ Tinnitus\, Â Druck auf den Ohren\,  (wied
 erkehrendem)Â HÃ¶rsturz\, Â Ohrenschmerzen\, Â SchwerhÃ¶rigkeitÂ oderÂ GerÃ
 ¤uschÃ¼berempfindlichkeit (Hyperakusis)Â leiden\,  waren Sie sicherlich ber
 eits beim Arzt bzw. bei mehreren Ã„rzten. Wenn Sie dort jeweils ohne Befund
  weggingen bzw. der Befund und die anschlieÃŸende Therapie nicht Ã¼berzeuge
 nd[..]\nhttps://pohltherapie-freiburg.de/en/events/ohrenbeschwerden/
URL:https://pohltherapie-freiburg.de/en/events/ohrenbeschwerden/
END:VEVENT
END:VCALENDAR