BEGIN:VCALENDAR
VERSION:2.0
PRODID:-//eventon.com NONSGML v1.0//EN
CALSCALE:GREGORIAN
METHOD:PUBLISH
BEGIN:VEVENT
UID:69e5eb118e8b3
DTSTAMP:20260420T090001Z
DTSTART:20250316T093000Z
DTEND:20250316T110000Z
LOCATION:Ãœbungsraum im Steptraum
SUMMARY:Freibewegen I: Tai Chi zum Reinschnuppern
DESCRIPTION:Tai Chi zum Reinschnuppern &#8211; eine gesunde Alternative zum
  Sport! Ich werde von meinen Patienten oft gefragt\,  welche Art von Sport 
 ich fÃ¼r ganzheitlich und gesund halte und daher empfehlen wÃ¼rde. Meine An
 twort ist stets die\,  dass man etwas suchen sollte\,  bei dem der ganze KÃ
 ¶rper einbezogen wird\,  bei dem[..]\nhttps://pohltherapie-freiburg.de/en/e
 vents/tai-chi-zum-reinschnuppern-eine-gesunde-alternative-zum-sport/
URL:https://pohltherapie-freiburg.de/en/events/tai-chi-zum-reinschnuppern-eine-gesunde-alternative-zum-sport/
END:VEVENT
END:VCALENDAR