BEGIN:VCALENDAR
VERSION:2.0
PRODID:-//eventon.com NONSGML v1.0//EN
CALSCALE:GREGORIAN
METHOD:PUBLISH
BEGIN:VEVENT
UID:69e8a2d8b532e
DTSTAMP:20260422T102840Z
DTSTART:20191214T100000Z
DTEND:20191214T113000Z
LOCATION:
SUMMARY:SU Beckenbodenbeschwerden
DESCRIPTION:In diesem Kurs wird es um Beschwerden des Beckenbodens aller Ar
 t gehen und wir werden eine NEUE Art und Weise kennen lernen\,  uns dem The
 ma zu nähern\,  das heißt auch neue Übungen und vor allem eine neue ART 
 zu üben\,  anders als die herkömmlichen Beckenbodentrainings und Rückbil
 dungskurse\,  die sonst angeboten[..]\nhttps://pohltherapie-freiburg.de/eve
 nts/su-beckenbodenbeschwerden/
URL:https://pohltherapie-freiburg.de/events/su-beckenbodenbeschwerden/
END:VEVENT
END:VCALENDAR