BEGIN:VCALENDAR
VERSION:2.0
PRODID:-//eventon.com NONSGML v1.0//EN
CALSCALE:GREGORIAN
METHOD:PUBLISH
BEGIN:VEVENT
UID:69e600138218f
DTSTAMP:20260420T102939Z
DTSTART:20250525T112000Z
DTEND:20250525T125000Z
LOCATION:Steptraum Gundelfingen Industriestr. 41\,  79194 Gundelfingen
SUMMARY:Richtig gehen: geh dich locker!
DESCRIPTION:Richtig Gehen: geh dich locker! &#8222;jeder Schritt eine Massa
 ge für den ganzen Körper&#8220; In diesem Kurs geht es ums gute Gehen\,  
 Spazierengehen\,  Schlendern\,  Marschieren (nicht ums Joggen/Rennen!). Was
  heißt „gut Gehen“? Eine Art Gehen\,  bei der der ganze Körper in Bew
 egung gerät\,  jeder Schritt locker ist\,  alles Rostige nur durch[..]\nht
 tps://pohltherapie-freiburg.de/events/1582/
URL:https://pohltherapie-freiburg.de/events/1582/
END:VEVENT
END:VCALENDAR