BEGIN:VCALENDAR
VERSION:2.0
PRODID:-//eventon.com NONSGML v1.0//EN
CALSCALE:GREGORIAN
METHOD:PUBLISH
BEGIN:VEVENT
UID:69e50f9481cb6
DTSTAMP:20260419T172332Z
DTSTART:20201025T115000Z
DTEND:20201025T133000Z
LOCATION:Ãœbungsraum im Steptraum
SUMMARY:Mausarm\,  Handydaumen\,  Ellbogenschmerz\,  SehnenscheidentzÃ¼ndung\,  Fingerarthrose u.v.m.
DESCRIPTION:Mausarm\,  Handydaumen\,  Ellbogenschmerz\,  Sehnenscheidenentz
 Ã¼ndung\,  Fingerarthrose u.v.m. Ãœbungen und Selbstbehandlungen fÃ¼r Besch
 werden in HÃ¤nden und Armen Der Tennisellbogen war einmal\,  heutzutage ist
  es eher der â€žMausarmâ€œ oder der â€žHandydaumenâ€œ\,  den die Patienten 
 als Diagnose bekommen\,  alternativ gerne auch die nicht totzukriegende â€ž
 SehnenscheidenentzÃ¼ndungâ€œ (Tendovagitis)\,  das â€žKarpaltunnelsyndromâ€
 œ oder das ohne fundierte Diagnostik ausgesprochene[..]\nhttps://pohltherap
 ie-freiburg.de/events/mausarm-usw/
URL:https://pohltherapie-freiburg.de/events/mausarm-usw/
END:VEVENT
END:VCALENDAR