BEGIN:VCALENDAR
VERSION:2.0
PRODID:-//eventon.com NONSGML v1.0//EN
CALSCALE:GREGORIAN
METHOD:PUBLISH
BEGIN:VEVENT
UID:69e740d83b71c
DTSTAMP:20260421T091816Z
DTSTART:20201213T115000Z
DTEND:20201213T132000Z
LOCATION:Übungsraum im Steptraum
SUMMARY:Jahresausklang 2: Erweiterte Übungen der Pohltherapie
DESCRIPTION:Jahresausklang: weitere Pohltherapie- (u.a.) Übungen Volle Bew
 eglichkeit! Teil II Übungsreihe für den ganzen Körper und die Atmung\,  
 neue Übungen und Ergänzungen zum Selbst-Zusammenstellen und für gute Lau
 ne Am Ende des Jahres werden wir neue Übungen und Selbstbehandlungen erkun
 den\,  die die Pohltherapie und ich zur Verfügung stellen und die eine zen
 trale[..]\nhttps://pohltherapie-freiburg.de/events/erweiterte-uebungen/
URL:https://pohltherapie-freiburg.de/events/erweiterte-uebungen/
END:VEVENT
END:VCALENDAR