BEGIN:VCALENDAR
VERSION:2.0
PRODID:-//eventon.com NONSGML v1.0//EN
CALSCALE:GREGORIAN
METHOD:PUBLISH
BEGIN:VEVENT
UID:69e9dc621e381
DTSTAMP:20260423T084626Z
DTSTART:20221002T222000Z
DTEND:20221002T235000Z
LOCATION:Übungsraum im Steptraum
SUMMARY:Atemwege - Der Atemkurs im Herbst
DESCRIPTION:Atemwege &#8211; der Atemkurs im Herbst Übungen und Selbstbeha
 ndlungen für freieres Atmen\,  gegen Depression und schlechte Laune Was ha
 t Atmung mit der Laune zu tun? Was mit Angst oder Panik? Was mit psychische
 n Problemen oder Stress? Was mit Schlaf oder mit Sexualität? Was mit der V
 erdauung oder mit Sodbrennen? Was ist überhaupt[..]\nhttps://pohltherapi
 e-freiburg.de/events/atemwege-der-atemkurs-im-herbst/
URL:https://pohltherapie-freiburg.de/events/atemwege-der-atemkurs-im-herbst/
END:VEVENT
END:VCALENDAR