BEGIN:VCALENDAR
VERSION:2.0
PRODID:-//eventon.com NONSGML v1.0//EN
CALSCALE:GREGORIAN
METHOD:PUBLISH
BEGIN:VEVENT
UID:69e5eaf6b96c7
DTSTAMP:20260420T085934Z
DTSTART:20231216T102000Z
DTEND:20231216T115000Z
LOCATION:Steptraum Gundelfingen Industriestr. 41\,  79194 Gundelfingen
SUMMARY:Atemwege im Herbst
DESCRIPTION:Atemwege &#8211; der Atemkurs im Herbst Übungen und Selbstbeha
 ndlungen für freieres Atmen und gegen schlechte Laune Was hat Atmung mit d
 er Laune zu tun? Was mit Angst oder Panik\,  psychischen Problemen oder Str
 ess? Was mit Schlaf oder mit Sexualität? Was mit der Verdauung oder mit So
 dbrennen? Was ist überhaupt Atmen?[..]\nhttps://pohltherapie-freiburg.de/e
 vents/atemwege-herbst/
URL:https://pohltherapie-freiburg.de/events/atemwege-herbst/
END:VEVENT
END:VCALENDAR