BEGIN:VCALENDAR
VERSION:2.0
PRODID:-//eventon.com NONSGML v1.0//EN
CALSCALE:GREGORIAN
METHOD:PUBLISH
BEGIN:VEVENT
UID:69e9efb6b8b13
DTSTAMP:20260423T100854Z
DTSTART:20240518T073000Z
DTEND:20240518T103000Z
LOCATION:Übungsraum im Steptraum
SUMMARY:Kiefer-Nacken-Tinnitus
DESCRIPTION:Kiefer-Nacken-Tinnitus Zusammenhänge begreifen &amp; erleben K
 ieferbeschwerden betreffen sehr viele Menschen. Manche knirschen nachts und
  tragen Schienen\,  andere haben seit einer intensiven Zahnbehandlung eine 
 Sperre oder dauernd Schmerzen\,  teilweise sogar Zahnschmerzen ohne erkennb
 are Ursache. Für viele liegt im Kiefer sogar die Ursache allen seelischen 
 und körperlichen Übels. Und es stimmt schon\, [..]\nhttps://pohltherapie-
 freiburg.de/events/kiefer-nacken-tinnitus-2024/
URL:https://pohltherapie-freiburg.de/events/kiefer-nacken-tinnitus-2024/
END:VEVENT
END:VCALENDAR