BEGIN:VCALENDAR
VERSION:2.0
PRODID:-//eventon.com NONSGML v1.0//EN
CALSCALE:GREGORIAN
METHOD:PUBLISH
BEGIN:VEVENT
UID:69e8a181b5cd8
DTSTAMP:20260422T102257Z
DTSTART:20240323T083000Z
DTEND:20240323T113000Z
LOCATION:Steptraum Gundelfingen Industriestr. 41\,  79194 Gundelfingen
SUMMARY:Atemwege im Frühling
DESCRIPTION:Pohltherapie-Atemkurs im Frühling Übungen und Selbstbehandlun
 gen für freieres Atmen\,  gegen Depression und schlechte Laune Was hat Atm
 ung mit der Laune zu tun? Was mit Angst oder Panik\,  psychischen Problemen
  oder Stress? Was mit Schlaf oder mit Sexualität? Was mit der Verdauung od
 er mit Sodbrennen? Was ist überhaupt Atmen? Reicht es[..]\nhttps://pohlthe
 rapie-freiburg.de/events/atemwege-der-atemkurs-im-fruehling-2024/
URL:https://pohltherapie-freiburg.de/events/atemwege-der-atemkurs-im-fruehling-2024/
END:VEVENT
END:VCALENDAR